Workbook

Sheet Sheet1
A1: 附件3
A2: 2025年企业提升规模奖励政策拟补助企业名单
A3: 序号 | B3: 企业名称 | C3: 组织机构代码 （统一社会信用代码）
A6: 全市合计（230家）
A7: 鼓楼区（5家）
A8: 1 | B8: 恒鸿达（福建）体育科技有限公司 | C8: 092436687
A9: 2 | B9: 福建中浦海洋科技有限公司 | C9: MA34PEPK3
A10: 3 | B10: 福建省中海福海洋科技有限公司 | C10: MA3328TP7
A11: 4 | B11: 中广核新能源电力服务（福建）有限公司 | C11: MA324MBE0
A12: 5 | B12: 福建元泰电力销售有限公司 | C12: MA33ND145
A13: 仓山区（13家）
A14: 6 | B14: 福建省思极科技服务有限公司 | C14: MA8UFK3K8
A15: 7 | B15: 福建多米特自动化科技有限公司 | C15: MA8RQ2X46
A16: 8 | B16: 福建大唐能源营销有限公司 | C16: MA2XXEER9
A17: 9 | B17: 福清创宏鞋业有限公司 | C17: MA33MWL81
A18: 10 | B18: 福州锦衣科技有限公司 | C18: MADE42MC9
A19: 11 | B19: 福州安光光电有限公司 | C19: MA2XX8LD2
A20: 12 | B20: 福州路路顺工贸有限公司 | C20: 694395288
A21: 13 | B21: 福州浩品食品有限公司 | C21: MADEL4GX0
A22: 14 | B22: 福州市汇创智控科技有限公司 | C22: MACL2THT3
A23: 15 | B23: 福州三矩机电设备有限公司 | C23: 786912078
A24: 16 | B24: 福州科美节能科技有限公司 | C24: 55096746X
A25: 17 | B25: 福州琨源鞋业有限公司 | C25: MA344UF21
A26: 18 | B26: 鑫恒智（福建）设备制造有限公司 | C26: MAD54T7D7
A27: 晋安区（6家）
A28: 19 | B28: 福州百孚居环保材料有限公司 | C28: 91350105MA33HL7BX8
A29: 20 | B29: 欧居（福建）绿色能源发展有限公司 | C29: 91350182MAELMDNT00
A30: 21 | B30: 福建天一同益新能源科技有限公司 | C30: 91350111MADLJP7L8D
A31: 22 | B31: 福州唐车轨道交通智能运维有限公司 | C31: 91350111MAD7E5357H
A32: 23 | B32: 福建嘉辉尔电力科技发展有限公司 | C32: 91350100MA33HL4437
A33: 24 | B33: 福州正兴塑胶科技有限公司 | C33: 91350111739538693F
A34: 马尾区（15家）
A35: 25 | B35: 福建省方元建材科技有限公司 | C35: 91350105MADLQ4W65C
A36: 26 | B36: 福建晨征光电有限公司 | C36: 91350105MACQRULN3B
A37: 27 | B37: 福州合瑞包装有限公司 | C37: 91350105MA351X5X4C
A38: 28 | B38: 安迪星（福建）体育用品有限责任公司 | C38: 91350105MA32YTYY3B
A39: 29 | B39: 福建友通电子有限公司 | C39: 9135010569660432XY
A40: 30 | B40: 福建天达菲食品有限公司 | C40: 91350105MADE9EDP8N
A41: 31 | B41: 福建北轩农业科技有限公司 | C41: 91350105MA339EDEX4
A42: 32 | B42: 福建省星和食品加工有限公司 | C42: 913501053154806862
...

Sheet Sheet2
A1: 企业名称 | B1: 组织机构代码 | C1: 属地
A2: 恒鸿达（福建）体育科技有限公司 | B2: 91110102092436687C | C2: 鼓楼区 | D2: =VLOOKUP(A2,Sheet1!B:C,2,0) -> 092436687
A3: 福建中浦海洋科技有限公司 | B3: 91350626MA34PEPK3P | C3: 鼓楼区 | D3: =VLOOKUP(A3,Sheet1!B:C,2,0) -> MA34PEPK3
A4: 福建达鸿灵实业有限公司 | B4: 91350102MACA81J13B | C4: 鼓楼区 | D4: =VLOOKUP(A4,Sheet1!B:C,2,0) -> #N/A
A5: 福建省中海福海洋科技有限公司 | B5: 91350103MA3328TP7L | C5: 鼓楼区 | D5: =VLOOKUP(A5,Sheet1!B:C,2,0) -> MA3328TP7
A6: 中广核新能源电力服务（福建）有限公司 | B6: 91350100MA324MBE00 | C6: 鼓楼区 | D6: =VLOOKUP(A6,Sheet1!B:C,2,0) -> MA324MBE0
A7: 福建元泰电力销售有限公司 | B7: 91350102MA33ND145D | C7: 鼓楼区 | D7: =VLOOKUP(A7,Sheet1!B:C,2,0) -> MA33ND145
A8: 福建省思极科技服务有限公司 | B8: 91350104MA8UFK3K8G | C8: 仓山区 | D8: =VLOOKUP(A8,Sheet1!B:C,2,0) -> MA8UFK3K8
A9: 福州科迪电子技术有限公司 | B9: 91350100260183894X | C9: 仓山区 | D9: =VLOOKUP(A9,Sheet1!B:C,2,0) -> #N/A
A10: 福建多米特自动化科技有限公司 | B10: 91350104MA8RQ2X464 | C10: 仓山区 | D10: =VLOOKUP(A10,Sheet1!B:C,2,0) -> MA8RQ2X46
A11: 福建大唐能源营销有限公司 | B11: 91350000MA2XXEER9H | C11: 仓山区 | D11: =VLOOKUP(A11,Sheet1!B:C,2,0) -> MA2XXEER9
A12: 福清创宏鞋业有限公司 | B12: 91350181MA33MWL813 | C12: 仓山区 | D12: =VLOOKUP(A12,Sheet1!B:C,2,0) -> MA33MWL81
A13: 福州锦衣科技有限公司 | B13: 91350104MADE42MC90 | C13: 仓山区 | D13: =VLOOKUP(A13,Sheet1!B:C,2,0) -> MADE42MC9
... A256: 福建灵信信息科技有限公司 | B256: 91350102770685181Y | C256: 高新区 | D256: =VLOOKUP(A256,Sheet1!B:C,2,0) -> #N/A

Sheet Sheet3
