Workbook

Sheet Sheet1
A1: 附件3
A2: 2025年企业提升规模奖励政策拟补助企业名单
A3: 序号 | B3: 企业名称 | C3: 组织机构代码 （统一社会信用代码）
A6: 全市合计（230家）
A7: 鼓楼区（5家）
A8: 1 | B8: 恒鸿达（福建）体育科技有限公司 | C8: 092436687
A9: 2 | B9: 福建中浦海洋科技有限公司 | C9: MA34PEPK3
A10: 3 | B10: 福建省中海福海洋科技有限公司 | C10: MA3328TP7
A11: 4 | B11: 中广核新能源电力服务（福建）有限公司 | C11: MA324MBE0
A12: 5 | B12: 福建元泰电力销售有限公司 | C12: MA33ND145
A13: 仓山区（13家）
A14: 6 | B14: 福建省思极科技服务有限公司 | C14: MA8UFK3K8
A15: 7 | B15: 福建多米特自动化科技有限公司 | C15: MA8RQ2X46
A16: 8 | B16: 福建大唐能源营销有限公司 | C16: MA2XXEER9
A17: 9 | B17: 福清创宏鞋业有限公司 | C17: MA33MWL81
A18: 10 | B18: 福州锦衣科技有限公司 | C18: MADE42MC9
A19: 11 | B19: 福州安光光电有限公司 | C19: MA2XX8LD2
A20: 12 | B20: 福州路路顺工贸有限公司 | C20: 694395288
A21: 13 | B21: 福州浩品食品有限公司 | C21: MADEL4GX0
A22: 14 | B22: 福州市汇创智控科技有限公司 | C22: MACL2THT3
A23: 15 | B23: 福州三矩机电设备有限公司 | C23: 786912078
A24: 16 | B24: 福州科美节能科技有限公司 | C24: 55096746X
A25: 17 | B25: 福州琨源鞋业有限公司 | C25: MA344UF21
A26: 18 | B26: 鑫恒智（福建）设备制造有限公司 | C26: MAD54T7D7
A27: 晋安区（6家）
A28: 19 | B28: 福州百孚居环保材料有限公司 | C28: 91350105MA33HL7BX8
A29: 20 | B29: 欧居（福建）绿色能源发展有限公司 | C29: 91350182MAELMDNT00
A30: 21 | B30: 福建天一同益新能源科技有限公司 | C30: 91350111MADLJP7L8D
A31: 22 | B31: 福州唐车轨道交通智能运维有限公司 | C31: 91350111MAD7E5357H
A32: 23 | B32: 福建嘉辉尔电力科技发展有限公司 | C32: 91350100MA33HL4437
A33: 24 | B33: 福州正兴塑胶科技有限公司 | C33: 91350111739538693F
A34: 马尾区（15家）
A35: 25 | B35: 福建省方元建材科技有限公司 | C35: 91350105MADLQ4W65C
A36: 26 | B36: 福建晨征光电有限公司 | C36: 91350105MACQRULN3B
A37: 27 | B37: 福州合瑞包装有限公司 | C37: 91350105MA351X5X4C
A38: 28 | B38: 安迪星（福建）体育用品有限责任公司 | C38: 91350105MA32YTYY3B
A39: 29 | B39: 福建友通电子有限公司 | C39: 9135010569660432XY
A40: 30 | B40: 福建天达菲食品有限公司 | C40: 91350105MADE9EDP8N
A41: 31 | B41: 福建北轩农业科技有限公司 | C41: 91350105MA339EDEX4
A42: 32 | B42: 福建省星和食品加工有限公司 | C42: 913501053154806862
A43: 33 | B43: 福州永虹电力设备有限公司 | C43: 913501043154031118
A44: 34 | B44: 福州普化仪器有限公司 | C44: 91350105MA33YMBY9G
A45: 35 | B45: 福建精诚电力有限公司 | C45: 91350105MACYTU923F
A46: 36 | B46: 福建威美亿智能科技有限公司 | C46: 913501040603701778
... A49: 39 | B49: 福建华丰贺氏餐饮管理有限公司 | C49: 91350105MA31RAYM48
A50: 长乐区（35家）
A51: 40 | B51: 福建省宏大纺织有限公司 | C51: 91350182MA31XC7J6N
A52: 41 | B52: 福州市鸿泰家居用品有限公司 | C52: 91350182MA8T57WR90
A53: 42 | B53: 福建晟源鸿金属制造有限公司 | C53: 91350182MACPNFDK4K
A54: 43 | B54: 福州市永联丰新材料有限公司 | C54: 91350182MADMUY6808
A55: 44 | B55: 福州市鑫翔羽绒制品有限公司 | C55: 91350182MADX7FDC0H
A56: 45 | B56: 福建鑫天鹏电气设备有限公司 | C56: 91350100315663570U
A57: 46 | B57: 福建省九源科技有限公司 | C57: 91350182MACDYRN81E
A58: 47 | B58: 福州睿和家居用品有限公司 | C58: 91350182MAD408BL8X
A59: 48 | B59: 福建金丽针织有限公司 | C59: 91350182MADK4W315R
A60: 49 | B60: 福州市长乐区城乡水务有限公司 | C60: 91350182MAC6E4EP57
A61: 50 | B61: 福州亿顺精工机械设备有限公司 | C61: 91350100062269953G
A62: 51 | B62: 福州市长乐区龙正科技有限公司 | C62: 91350182MAC73B7A8B
... A85: 74 | B85: 协荣东名金刚石工业（福州）有限公司 | C85: 91350182MACXKKXB25
A86: 福清市（49家）
A87: 75 | B87: 福州海锐电子科技有限公司 | C87: 91350181337499134M
A88: 76 | B88: 福建省福鑫电气设备有限公司 | C88: 91350181MA31UXGK2B
A89: 77 | B89: 福州恒海今创电子有限公司 | C89: 91350181MACHM2624N
A90: 78 | B90: 福建榕辰包装有限公司 | C90: 91350181052332824U
A91: 79 | B91: 福建佳昊光电科技有限公司 | C91: 91350181MABQWBFN91
A92: 80 | B92: 福州瑞鸿智能家居有限公司 | C92: 91350181MAE2RYTGX3
A93: 81 | B93: 福建帝视智能科技有限公司 | C93: 91350181MA8TF54847
A94: 82 | B94: 福建京佳光电科技有限公司 | C94: 91350181MAC6YCUDX8
A95: 83 | B95: 福建融云物联网科技有限公司 | C95: 91350181399848977M
A96: 84 | B96: 福清市斯威新材料有限公司 | C96: 91350181MA358K2AX5
A97: 85 | B97: 福建小象光显有限公司 | C97: 91350181MAEDA05R1X
A98: 86 | B98: 福建省哈深福创科技有限公司 | C98: 91350181MAEF0H1C7Y
... A135: 123 | B135: 福清明芳电子科技有限公司 | C135: 91350181MAD9JR8U26
A136: 闽侯县（43家）
A137: 124 | B137: 福大紫金氢能科技股份有限公司 | C137: 91350100MA8UMJRR3H
A138: 125 | B138: 美嘉（福建）润滑科技有限公司 | C138: 91350121MA2XNT7J59
A139: 126 | B139: 福建榕泰唯星汽车产业有限公司 | C139: 91350121MA8U1BU48N
A140: 127 | B140: 福建省雷晟能源科技有限公司 | C140: 91350100MA31HTQ6XH
A141: 128 | B141: 福州景盛塑胶有限公司 | C141: 91350121MACU9AJ2X2
A142: 129 | B142: 福建众鑫家具有限公司 | C142: 91350121MA31FGQ396
A143: 130 | B143: 福建特斯拉动力科技有限公司 | C143: 91350123MA32FKWC2M
A144: 131 | B144: 福建吉维特冶金设备有限公司 | C144: 91350121MABWJ40G1A
A145: 132 | B145: 福州舒路达鞋业有限公司 | C145: 91350121MA33K6T48B
A146: 133 | B146: 福州佳居科技有限公司 | C146: 91350121MA8TN2XN7G
A147: 134 | B147: 福建精鼎科技有限公司 | C147: 91350121MAC0HLK73W
A148: 135 | B148: 福州友特维木业有限公司 | C148: 91350121MAD34KK90P
... A179: 166 | B179: 福州速易联电气有限公司 | C179: 91350121MA3443YK64
A180: 连江县（16家）
A181: 167 | B181: 福建省连江永达船配厂 | C181: 91350122X11240421Y
A182: 168 | B182: 福州祺添新能源材料有限公司 | C182: 91350122MA8T0BGH9W
A183: 169 | B183: 福建旺海水产有限公司 | C183: 91350122MADQXP6C90
A184: 170 | B184: 福建福岸食品有限公司 | C184: 91350122MACYXQRD9D
A185: 171 | B185: 福建星榕新型建材有限公司 | C185: 91350122MA34H2J56D
A186: 172 | B186: 连江县恒沣海洋食品有限公司 | C186: 91350122MACXMT34X3
A187: 173 | B187: 福州宏汇食品有限公司 | C187: 91350122MAC5K0T82W
A188: 174 | B188: 福建省连江县康乐食品有限公司 | C188: 913501226719224795
A189: 175 | B189: 福建省望达渔业发展有限公司 | C189: 91350122MACFCCC15R
A190: 176 | B190: 福州市连盛食品有限公司 | C190: 91350122MA33XNUY78
A191: 177 | B191: 福州亨通机械有限公司 | C191: 91350100759381101Q
A192: 178 | B192: 福建申源环保科技有限公司 | C192: 91350122MA8RU09K0A
...

Sheet Sheet2
A1: 企业名称 | B1: 组织机构代码 | C1: 属地
A2: 恒鸿达（福建）体育科技有限公司 | B2: 91110102092436687C | C2: 鼓楼区 | D2: =VLOOKUP(A2,Sheet1!B:C,2,0) -> 092436687
A3: 福建中浦海洋科技有限公司 | B3: 91350626MA34PEPK3P | C3: 鼓楼区 | D3: =VLOOKUP(A3,Sheet1!B:C,2,0) -> MA34PEPK3
A4: 福建达鸿灵实业有限公司 | B4: 91350102MACA81J13B | C4: 鼓楼区 | D4: =VLOOKUP(A4,Sheet1!B:C,2,0) -> #N/A
A5: 福建省中海福海洋科技有限公司 | B5: 91350103MA3328TP7L | C5: 鼓楼区 | D5: =VLOOKUP(A5,Sheet1!B:C,2,0) -> MA3328TP7
A6: 中广核新能源电力服务（福建）有限公司 | B6: 91350100MA324MBE00 | C6: 鼓楼区 | D6: =VLOOKUP(A6,Sheet1!B:C,2,0) -> MA324MBE0
A7: 福建元泰电力销售有限公司 | B7: 91350102MA33ND145D | C7: 鼓楼区 | D7: =VLOOKUP(A7,Sheet1!B:C,2,0) -> MA33ND145
A8: 福建省思极科技服务有限公司 | B8: 91350104MA8UFK3K8G | C8: 仓山区 | D8: =VLOOKUP(A8,Sheet1!B:C,2,0) -> MA8UFK3K8
A9: 福州科迪电子技术有限公司 | B9: 91350100260183894X | C9: 仓山区 | D9: =VLOOKUP(A9,Sheet1!B:C,2,0) -> #N/A
A10: 福建多米特自动化科技有限公司 | B10: 91350104MA8RQ2X464 | C10: 仓山区 | D10: =VLOOKUP(A10,Sheet1!B:C,2,0) -> MA8RQ2X46
A11: 福建大唐能源营销有限公司 | B11: 91350000MA2XXEER9H | C11: 仓山区 | D11: =VLOOKUP(A11,Sheet1!B:C,2,0) -> MA2XXEER9
A12: 福清创宏鞋业有限公司 | B12: 91350181MA33MWL813 | C12: 仓山区 | D12: =VLOOKUP(A12,Sheet1!B:C,2,0) -> MA33MWL81
A13: 福州锦衣科技有限公司 | B13: 91350104MADE42MC90 | C13: 仓山区 | D13: =VLOOKUP(A13,Sheet1!B:C,2,0) -> MADE42MC9
... A256: 福建灵信信息科技有限公司 | B256: 91350102770685181Y | C256: 高新区 | D256: =VLOOKUP(A256,Sheet1!B:C,2,0) -> #N/A

Sheet Sheet3
